BEGIN:VCALENDAR
VERSION:2.0
PRODID:icalendar-ruby
CALSCALE:GREGORIAN
BEGIN:VEVENT
DTSTAMP:20260426T022755Z
UID:e43cc105-6d18-4686-a2fa-8a6f0780f20f
DTSTART:20201210T153000
DTEND:20201210T163000
LOCATION:Invest Atlanta Zoom 
SUMMARY:Invest Atlanta will hold the Economic Development Committee Meeting
  on Thursday December 10\, 2020 commencing at 3:30 p.m. Due to the current
  public safety emergency caused by the COVID-19 virus\, as identified by G
 overnor Kemp’s Executive Order 04.02.20.01 and Mayor Bottoms’ Execut
 ive Orders  2020-22 and 2020-138\, the meeting will be held telephonica
 lly as authorized by OCGA Section 50-14-1 (g).
URL:/about-us/events/invest-atlanta-economic-development-committee-meeting-
 dec-2020
END:VEVENT
END:VCALENDAR
