BEGIN:VCALENDAR
VERSION:2.0
PRODID:icalendar-ruby
CALSCALE:GREGORIAN
BEGIN:VEVENT
DTSTAMP:20260423T145806Z
UID:c894f801-c8fc-4446-ba3e-a5ee331d64d7
DTSTART:20210218T090000
DTEND:20210218T100000
LOCATION:Invest Atlanta Zoom 
SUMMARY:Invest Atlanta will hold its regularly scheduled Board of Directors
  meeting on Thursday\, February 18\, 2021 at commencing at 9:00 a.m. Due 
 to the current public safety emergency caused by the COVID-19 virus\, as i
 dentified by Governor Kemp’s Executive Order 04.02.20.01 and Mayor Bot
 toms’ Executive Orders  2020-22 and 2020-138\, the meeting will be he
 ld telephonically as authorized by OCGA Section 50-14-1 (g).
URL:/about-us/events/invest-atlanta-monthly-board-of-directors-meeting-2-18
 -21
END:VEVENT
END:VCALENDAR
