BEGIN:VCALENDAR
VERSION:2.0
PRODID:icalendar-ruby
CALSCALE:GREGORIAN
BEGIN:VEVENT
DTSTAMP:20260426T023626Z
UID:14d962d8-e36c-4d6c-89b0-51fc1c1813a4
DTSTART:20210211T130000
DTEND:20210211T140000
LOCATION:Invest Atlanta Zoom 
SUMMARY:Invest Atlanta will hold the Urban Residential Finance Authority of
  the City of Atlanta\, Georgia Housing Committee Meeting on Thursday\, Feb
 ruary 11\, 2021 commencing at 1:00 p.m.  Due to the current public safety
  emergency caused by the COVID-19 virus\, as identified by Governor Kemp
 ’s Executive Order 04.02.20.01 and Mayor Bottoms’ Executive Orders 
  2020-22 and 2020-138\, the meeting will be held telephonically as auth
 orized by OCGA Section 50-14-1 (g).
URL:/about-us/events/invest-atlanta-housing-committee-urfa-housing-committe
 e-2-11-21
END:VEVENT
END:VCALENDAR
