BEGIN:VCALENDAR
VERSION:2.0
PRODID:icalendar-ruby
CALSCALE:GREGORIAN
BEGIN:VEVENT
DTSTAMP:20260426T023319Z
UID:b0172339-c6c8-43f6-a956-b0b3a33ffac9
DTSTART:20210909T130000
DTEND:20210909T140000
LOCATION:133 Peachtree St NE\, Suite 2900
SUMMARY:Meetings of the Invest Atlanta Housing Committee and the URFA Housi
 ng Committee will be held at Invest Atlanta or telephonically from 1:00-2:
 00 P.M. on the designated dates.
URL:/about-us/events/invest-atlanta-housing-committee-urfa-housing-committe
 e-9-9-21
END:VEVENT
END:VCALENDAR
