BEGIN:VCALENDAR
VERSION:2.0
PRODID:icalendar-ruby
CALSCALE:GREGORIAN
BEGIN:VEVENT
DTSTAMP:20260426T023716Z
UID:40481e5b-19a3-4143-83d3-82bd19ee7c20
DTSTART:20211209T130000
DTEND:20211209T140000
LOCATION:133 Peachtree St NE\, Suite 2900
SUMMARY:Meetings of the Invest Atlanta Housing Committee and the URFA Housi
 ng Committee will be held at Invest Atlanta or telephonically from 1:00-2:
 00 P.M. on the designated dates.
URL:/about-us/events/invest-atlanta-housing-committee-urfa-housing-committe
 e-12-9-21
END:VEVENT
END:VCALENDAR
