BEGIN:VCALENDAR
VERSION:2.0
PRODID:icalendar-ruby
CALSCALE:GREGORIAN
BEGIN:VEVENT
DTSTAMP:20260426T023324Z
UID:d75e8dfa-4a99-4396-9867-1f44b1c2a1aa
DTSTART:20210114T140000
DTEND:20210114T153000
LOCATION:Invest Atlanta Zoom 
SUMMARY:Invest Atlanta will hold the Tax Allocation District Project and Po
 licy Review Committee Meeting on Thursday\, January 14\, 2021 commencing a
 t 2:00 p.m.  Due to the current public safety emergency caused by the COV
 ID-19 virus\, as identified by Governor Kemp’s Executive Order 04.02.20
 .01 and Mayor Bottoms’ Executive Orders  2020-22 and 2020-138\, the 
 meeting will be held telephonically as authorized by OCGA Section 50-14-1 
 (g).
URL:/about-us/events/invest-atlanta-tax-allocation-district-project-and-pol
 icy-review-committee-meeting-1-14-21
END:VEVENT
END:VCALENDAR
