BEGIN:VCALENDAR
VERSION:2.0
PRODID:icalendar-ruby
CALSCALE:GREGORIAN
BEGIN:VEVENT
DTSTAMP:20260425T111548Z
UID:063be2be-e0a9-48bf-a956-fad4795452e7
DTSTART:20210211T140000
DTEND:20210211T153000
LOCATION:Invest Atlanta Zoom 
SUMMARY:Invest Atlanta will hold the Tax Allocation District Project and Po
 licy Review Committee Meeting on Thursday\, February 11\, 2021 commencing 
 at 2:00 p.m.  Due to the current public safety emergency caused by the CO
 VID-19 virus\, as identified by Governor Kemp’s Executive Order 04.02.2
 0.01 and Mayor Bottoms’ Executive Orders  2020-22 and 2020-138\, the
  meeting will be held telephonically as authorized by OCGA Section 50-14-1
  (g).
URL:/about-us/events/invest-atlanta-tax-allocation-district-project-and-pol
 icy-review-committee-meeting-2-11-21
END:VEVENT
END:VCALENDAR
