BEGIN:VCALENDAR
VERSION:2.0
PRODID:icalendar-ruby
CALSCALE:GREGORIAN
BEGIN:VEVENT
DTSTAMP:20260426T023620Z
UID:87ea5680-b066-4029-b60d-b55a6a784679
DTSTART:20210812T140000
DTEND:20210812T153000
LOCATION:133 Peachtree St NE\, Suite 2900
SUMMARY:Meetings of the Tax Allocation District Project and Policy Review C
 ommittee will be held at Invest Atlanta or telephonically from 2:00-3:30 P
 .M. on the designated dates.
URL:/about-us/events/invest-atlanta-tax-allocation-district-project-and-pol
 icy-review-committee-meeting-8-12-21
END:VEVENT
END:VCALENDAR
