BEGIN:VCALENDAR
VERSION:2.0
PRODID:icalendar-ruby
CALSCALE:GREGORIAN
BEGIN:VEVENT
DTSTAMP:20260426T023325Z
UID:15682e15-5480-4874-8cd9-331e6d89a4b6
DTSTART:20210909T140000
DTEND:20210909T153000
LOCATION:133 Peachtree St NE\, Suite 2900
SUMMARY:Meetings of the Tax Allocation District Project and Policy Review C
 ommittee will be held at Invest Atlanta or telephonically from 2:00-3:30 P
 .M. on the designated dates.
URL:/about-us/events/invest-atlanta-tax-allocation-district-project-and-pol
 icy-review-committee-meeting-9-9-21
END:VEVENT
END:VCALENDAR
