BEGIN:VCALENDAR
VERSION:2.0
PRODID:icalendar-ruby
CALSCALE:GREGORIAN
BEGIN:VEVENT
DTSTAMP:20260425T210612Z
UID:90c95a8a-fb1d-471c-a295-dc9a5b301f17
DTSTART:20210610T153000
DTEND:20210610T163000
LOCATION:133 Peachtree St NE\, Suite 2900
SUMMARY:Invest Atlanta will hold the Economic Development Committee Meeting
  on Thursday\, June 10\, 2021\, commencing at 3:30 p.m.\n\nDue to the curr
 ent public safety emergency caused by the COVID-19 virus\, as identified b
 y Governor Kemp’s Executive Order 04.02.20.01 and Mayor Bottoms’ Execu
 tive Orders  2020-22 and 2020-138\, the meeting will be held telephonical
 ly as authorized by OCGA Section 50-14-1 (g).
URL:/about-us/events/invest-atlanta-economic-development-committee-meeting-
 6-10-21
END:VEVENT
END:VCALENDAR
