BEGIN:VCALENDAR
VERSION:2.0
PRODID:icalendar-ruby
CALSCALE:GREGORIAN
BEGIN:VEVENT
DTSTAMP:20260425T230121Z
UID:12427d18-e41e-4ef5-b7c3-a8b5b343281e
DTSTART:20210708T153000
DTEND:20210708T163000
LOCATION:133 Peachtree St NE\, Suite 2900
SUMMARY:CANCELED -- Invest Atlanta Economic Development Committee will be 
 held at Invest Atlanta or telephonically from 3:30-4:30 P.M. on the design
 ated dates.
URL:/about-us/events/invest-atlanta-economic-development-committee-meeting-
 7-8-21
END:VEVENT
END:VCALENDAR
