BEGIN:VCALENDAR
VERSION:2.0
PRODID:icalendar-ruby
CALSCALE:GREGORIAN
BEGIN:VEVENT
DTSTAMP:20260426T023018Z
UID:8d59eef3-489d-4f9d-b51d-235b76077436
DTSTART:20210909T153000
DTEND:20210909T163000
LOCATION:133 Peachtree St NE\, Suite 2900
SUMMARY:Invest Atlanta Economic Development Committee will be held at Inves
 t Atlanta or telephonically from 3:30-4:30 P.M. on the designated dates.
URL:/about-us/events/invest-atlanta-economic-development-committee-meeting-
 9-9-21
END:VEVENT
END:VCALENDAR
