BEGIN:VCALENDAR
VERSION:2.0
PRODID:icalendar-ruby
CALSCALE:GREGORIAN
BEGIN:VEVENT
DTSTAMP:20260423T214713Z
UID:4d5259c7-a0b8-4733-8f5c-12b2270345a3
DTSTART:20211110T153000
DTEND:20211110T163000
LOCATION:133 Peachtree St NE\, Suite 2900
SUMMARY:Invest Atlanta Economic Development Committee will be held at Inves
 t Atlanta or telephonically from 3:30-4:30 P.M. on the designated dates.
URL:/about-us/events/invest-atlanta-economic-development-committee-meeting-
 11-11-21
END:VEVENT
END:VCALENDAR
