BEGIN:VCALENDAR
VERSION:2.0
PRODID:icalendar-ruby
CALSCALE:GREGORIAN
BEGIN:VEVENT
DTSTAMP:20260426T023430Z
UID:29c1d817-8ca9-4247-8de5-3f8ccf309f13
DTSTART:20210119T113000
DTEND:20210119T130000
LOCATION:Invest Atlanta Zoom 
SUMMARY:Invest Atlanta will hold its Finance Committee Meeting on Tuesday\,
  January 19\, 2021 commencing at 11:30 a.m.  Due to the current public sa
 fety emergency caused by the COVID-19 virus\, as identified by Governor Ke
 mp’s Executive Order 04.02.20.01 and Mayor Bottoms’ Executive Orders
   2020-22 and 2020-138\, the meeting will be held telephonically as aut
 horized by OCGA Section 50-14-1 (g).
URL:/about-us/events/invest-atlanta-finance-committee-meeting-1-19-21
END:VEVENT
END:VCALENDAR
