BEGIN:VCALENDAR
VERSION:2.0
PRODID:icalendar-ruby
CALSCALE:GREGORIAN
BEGIN:VEVENT
DTSTAMP:20260426T023717Z
UID:6b7be60c-7d87-4ca7-9ab3-7c551e4328d0
DTSTART:20210315T150000
DTEND:20210315T163000
LOCATION:133 Peachtree St NE\, Suite 2900
SUMMARY:Invest Atlanta will hold its Finance Committee Meeting on Monday\, 
 February 15\, 2021 commencing at 3:00 p.m.
URL:/about-us/events/invest-atlanta-finance-committee-meeting-3-15-21
END:VEVENT
END:VCALENDAR
