BEGIN:VCALENDAR
VERSION:2.0
PRODID:icalendar-ruby
CALSCALE:GREGORIAN
BEGIN:VEVENT
DTSTAMP:20260426T023604Z
UID:ee4fd717-9f11-4b56-be03-9e11fe923206
DTSTART:20210209T170000
DTEND:20210209T190000
LOCATION:Invest Atlanta Zoom & Facebook Live
SUMMARY:Start your path to homeownership with experts! Join Invest Atlanta 
 and real estate professionals online to discuss the right steps to take.
URL:/about-us/events/new-year-new-neighborhood-webinar-series-mortgage-loan
 -prequalification
END:VEVENT
END:VCALENDAR
