BEGIN:VCALENDAR
VERSION:2.0
PRODID:icalendar-ruby
CALSCALE:GREGORIAN
BEGIN:VEVENT
DTSTAMP:20260426T023625Z
UID:d6398533-99ab-4773-a9f6-f8f5c4dd6a43
DTSTART:20210216T170000
DTEND:20210216T190000
LOCATION:Invest Atlanta Zoom & Facebook Live
SUMMARY:Start your path to homeownership with experts! Join Invest Atlanta 
 and real estate professionals online to discuss the right steps to take.
URL:/about-us/events/new-year-new-neighborhood-webinar-series-tips-from-rea
 l-estate-agents
END:VEVENT
END:VCALENDAR
