BEGIN:VCALENDAR
VERSION:2.0
PRODID:icalendar-ruby
CALSCALE:GREGORIAN
BEGIN:VEVENT
DTSTAMP:20260425T230411Z
UID:0575d837-c4b2-4350-bd81-67b5a2e01c91
DTSTART:20210223T170000
DTEND:20210223T190000
LOCATION:Invest Atlanta Zoom & Facebook Live
SUMMARY:Start your path to homeownership with experts! Join Invest Atlanta 
 and real estate professionals online to discuss the right steps to take.
URL:/about-us/events/new-year-new-neighborhood-webinar-series-purchasing-a-
 fixer-upper
END:VEVENT
END:VCALENDAR
