BEGIN:VCALENDAR
VERSION:2.0
PRODID:icalendar-ruby
CALSCALE:GREGORIAN
BEGIN:VEVENT
DTSTAMP:20260423T202831Z
UID:1c6efbb3-a933-4394-b2ed-ff809b80e351
DTSTART:20210219T100000
DTEND:20210219T000000
LOCATION:Invest Atlanta Zoom 
SUMMARY:Invest Atlanta will hold a Board Retreat on Friday\, February 19\
 , 2021 commencing at 10:00 a.m.  
URL:/about-us/events/board-retreat-of-the-board-of-directors-of-the-atlanta
 -development-authority-2020
END:VEVENT
END:VCALENDAR
