BEGIN:VCALENDAR
VERSION:2.0
PRODID:icalendar-ruby
CALSCALE:GREGORIAN
BEGIN:VEVENT
DTSTAMP:20260425T224941Z
UID:33785196-dc21-4f02-aefb-c12d72beddf7
DTSTART:20210303T180000
DTEND:20210303T200000
LOCATION:Invest Atlanta Zoom 
SUMMARY:Please join Invest Atlanta for a stakeholder work session to learn 
 more and provide feedback on the programs\, funding eligibility\, and prop
 osed guidelines.
URL:/about-us/events/housing-opportunity-bond-general-stakeholder-session
END:VEVENT
END:VCALENDAR
