BEGIN:VCALENDAR
VERSION:2.0
PRODID:icalendar-ruby
CALSCALE:GREGORIAN
BEGIN:VEVENT
DTSTAMP:20260426T023401Z
UID:57cfd582-8a74-4bda-94b0-cf7ea3ef6beb
DTSTART:20180628T170000
DTEND:20180628T183000
LOCATION:133 Peachtree St NE\, Suite 2900
SUMMARY:If You Envision Homeownership in 2017\, Join INVEST ATLANTA for Add
 itional Perspective
URL:/about-us/events/qa-session-invest-atlanta-homebuyer-incentives-6-28-18
END:VEVENT
END:VCALENDAR
