BEGIN:VCALENDAR
VERSION:2.0
PRODID:icalendar-ruby
CALSCALE:GREGORIAN
BEGIN:VEVENT
DTSTAMP:20260426T022856Z
UID:7bcc761b-ffc7-4a59-ac72-3a1f58b0c0fe
DTSTART:20210317T110000
DTEND:20210317T120000
LOCATION:Zoom
SUMMARY:Join the Georgia Chamber for a virtual discussion on the future of 
 equity and inclusion in our economy with the President &amp\; CEO of Inves
 t Atlanta\, Dr. Eloisa Klementich.
URL:/about-us/events/georgia-chamber-the-future-of-equity-inclusion
END:VEVENT
END:VCALENDAR
