BEGIN:VCALENDAR
VERSION:2.0
PRODID:icalendar-ruby
CALSCALE:GREGORIAN
BEGIN:VEVENT
DTSTAMP:20260423T154937Z
UID:7ead9ed8-2c3a-4b5e-b865-d69ce3f40c09
DTSTART:20210401T160000
DTEND:20210401T170000
LOCATION:Invest Atlanta Zoom & Facebook Live
SUMMARY:Join Invest Atlanta\, in partnership with The Annie E. Casey Founda
 tion\, for a presentation on Pittsburgh Yards® to learn more about leasin
 g and co-working opportunities as well as available resources for small bu
 sinesses and entrepreneurs. 
URL:/about-us/events/small-business-resources-webinar-pittsburgh-yards
END:VEVENT
END:VCALENDAR
