BEGIN:VCALENDAR
VERSION:2.0
PRODID:icalendar-ruby
CALSCALE:GREGORIAN
BEGIN:VEVENT
DTSTAMP:20260426T023726Z
UID:44ce82d1-36e0-46d1-bb88-6a8072fe54d8
DTSTART:20210624T110000
DTEND:20210624T113000
LOCATION:Zoom Webinar and Facebook Livestream
SUMMARY:In celebration of Pride Month\, here from this LBGTQ-owned business
  about what's led to their success and why Atlanta is a great place to be 
 a small business!\n\n 
URL:/about-us/events/small-business-spotlight-twisted-soul-cookhouse-pours
END:VEVENT
END:VCALENDAR
