BEGIN:VCALENDAR
VERSION:2.0
PRODID:icalendar-ruby
CALSCALE:GREGORIAN
BEGIN:VEVENT
DTSTAMP:20260425T105651Z
UID:b0ceeed1-99dd-49ab-9114-2c023c06694a
DTSTART:20210625T100000
DTEND:20210625T200000
LOCATION:
SUMMARY:Celebrate Homeownership Month with the experts! Join Invest Atlanta
  &amp\; Rolling Out online to discuss tips for your journey to homeownersh
 ip.
URL:/about-us/events/journey-to-homeownership-virtual-conference-presented-
 by-rolling-out
END:VEVENT
END:VCALENDAR
