BEGIN:VCALENDAR
VERSION:2.0
PRODID:icalendar-ruby
CALSCALE:GREGORIAN
BEGIN:VEVENT
DTSTAMP:20260419T163856Z
UID:23c450a5-94b0-4a82-a2f7-e9f3660fb6e6
DTSTART:20211013T120000
DTEND:20211013T130000
LOCATION:
SUMMARY:Virtual Launch Party for the IA Dealroom platform.
URL:/about-us/events/invest-atlanta-dealroom-virtual-launch-party
END:VEVENT
END:VCALENDAR
