BEGIN:VCALENDAR
VERSION:2.0
PRODID:icalendar-ruby
CALSCALE:GREGORIAN
BEGIN:VEVENT
DTSTAMP:20260426T022903Z
UID:52677acb-bb59-41ec-a528-d0a96c36f337
DTSTART:20220112T170000
DTEND:20220112T190000
LOCATION:Invest Atlanta Zoom & Facebook Live
SUMMARY:If you envision homeownership in the near future\, attend the Inves
 t Atlanta Homebuyer Q&amp\;A Session webinar for a new perspective!
URL:/about-us/events/invest-atlanta-homebuyer-qa-session-webinar-1-12
END:VEVENT
END:VCALENDAR
