BEGIN:VCALENDAR
VERSION:2.0
PRODID:icalendar-ruby
CALSCALE:GREGORIAN
BEGIN:VEVENT
DTSTAMP:20260423T202850Z
UID:8d54a42c-1315-4a98-8573-a7aebc094320
DTSTART:20220209T170000
DTEND:20220209T190000
LOCATION:Invest Atlanta Zoom & Facebook Live
SUMMARY:If you envision homeownership in the near future\, attend the Inves
 t Atlanta Homebuyer Q&amp\;A Session webinar for a new perspective!
URL:/about-us/events/invest-atlanta-homebuyer-qa-session-webinar-2-09
END:VEVENT
END:VCALENDAR
