BEGIN:VCALENDAR
VERSION:2.0
PRODID:icalendar-ruby
CALSCALE:GREGORIAN
BEGIN:VEVENT
DTSTAMP:20260426T022633Z
UID:9c1c81a5-ee2f-4e39-b889-cdbe978cf8b4
DTSTART:20220608T170000
DTEND:20220608T190000
LOCATION:Invest Atlanta Zoom & Facebook Live
SUMMARY:If you envision homeownership in the near future\, attend the Inves
 t Atlanta Homebuyer Q&amp\;A Session webinar for a new perspective!
URL:/about-us/events/invest-atlanta-homebuyer-qa-session-webinar-6-08
END:VEVENT
END:VCALENDAR
