BEGIN:VCALENDAR
VERSION:2.0
PRODID:icalendar-ruby
CALSCALE:GREGORIAN
BEGIN:VEVENT
DTSTAMP:20260423T202950Z
UID:66d1e26d-44c1-491f-9563-7229a8d09003
DTSTART:20220713T170000
DTEND:20220713T190000
LOCATION:Invest Atlanta Zoom & Facebook Live
SUMMARY:If you envision homeownership in the near future\, attend the Inves
 t Atlanta Homebuyer Q&amp\;A Session webinar for a new perspective!
URL:/about-us/events/invest-atlanta-homebuyer-qa-session-webinar-7-13
END:VEVENT
END:VCALENDAR
