BEGIN:VCALENDAR
VERSION:2.0
PRODID:icalendar-ruby
CALSCALE:GREGORIAN
BEGIN:VEVENT
DTSTAMP:20260425T110720Z
UID:e3b76fba-34a3-4cfe-abde-81c5ab19282b
DTSTART:20220818T090000
DTEND:20220818T100000
LOCATION:133 Peachtree St NE\, Suite 2900
SUMMARY:\n\nThe Board of Directors of The Atlanta Development Authority d/b
 /a Invest Atlanta (“Invest Atlanta”) will meet on the following dates 
 from 9:00 A.M. to 10:00 A.M.\, unless noted. The Boards of the Urban Resid
 ential Finance Authority of the City of Atlanta\, Georgia (“URFA”)\, t
 he Downtown Development Authority of the City of Atlanta (“DDA”) and t
 he Atlanta Urban Redevelopment Agency (“AURA”) will meet on these same
  dates\, as necessary.\n\n
URL:/about-us/events/invest-atlanta-monthly-board-of-directors-meeting-8-18
 -22
END:VEVENT
END:VCALENDAR
