BEGIN:VCALENDAR
VERSION:2.0
PRODID:icalendar-ruby
CALSCALE:GREGORIAN
BEGIN:VEVENT
DTSTAMP:20260423T203002Z
UID:48a6dcbf-e6a2-4ac0-8057-fe1e0c578612
DTSTART:20221020T090000
DTEND:20221020T100000
LOCATION:133 Peachtree St NE\, Suite 2900
SUMMARY:The Board of Directors of The Atlanta Development Authority d/b/a I
 nvest Atlanta (“Invest Atlanta”) will meet on the following dates from
  9:00 A.M. to 10:00 A.M.\, unless noted. The Boards of the Urban Residenti
 al Finance Authority of the City of Atlanta\, Georgia (“URFA”)\, the D
 owntown Development Authority of the City of Atlanta (“DDA”) and the A
 tlanta Urban Redevelopment Agency (“AURA”) will meet on these same dat
 es\, as necessary.
URL:/about-us/events/invest-atlanta-monthly-board-of-directors-meeting-10-2
 0-22
END:VEVENT
END:VCALENDAR
