BEGIN:VCALENDAR
VERSION:2.0
PRODID:icalendar-ruby
CALSCALE:GREGORIAN
BEGIN:VEVENT
DTSTAMP:20260425T171107Z
UID:e4c15d40-4445-4221-afd7-30c09641f016
DTSTART:20180822T170000
DTEND:20180822T190000
LOCATION:133 Peachtree St NE\, Suite 2900
SUMMARY:Come to Invest Atlanta’s Small Business Loan Seminar and access m
 oney to start or grow your business.
URL:/about-us/events/small-business-loan-seminar-8-22-18
END:VEVENT
END:VCALENDAR
