BEGIN:VCALENDAR
VERSION:2.0
PRODID:icalendar-ruby
CALSCALE:GREGORIAN
BEGIN:VEVENT
DTSTAMP:20260422T200724Z
UID:49a13cd3-dcf8-4a23-a792-6cb2ea7285af
DTSTART:20220609T140000
DTEND:20220609T153000
LOCATION:133 Peachtree St NE\, Suite 2900
SUMMARY:Invest Atlanta will hold the Tax Allocation District Project and P
 olicy Review Committee Meeting on the second Thursday of each month. Addi
 tional details to follow.
URL:/about-us/events/invest-atlanta-tax-allocation-district-project-and-pol
 icy-review-committee-meeting-6-9-22
END:VEVENT
END:VCALENDAR
