BEGIN:VCALENDAR
VERSION:2.0
PRODID:icalendar-ruby
CALSCALE:GREGORIAN
BEGIN:VEVENT
DTSTAMP:20260426T023400Z
UID:ca28df12-87c2-4435-8720-b4266b46372c
DTSTART:20180602T100000
DTEND:20180602T130000
LOCATION:Atlanta Technical College\, 1560 Metropolitan Parkway Southwest\, 
 Atlanta\, GA 30310
SUMMARY:The HOUSE RULES Open House Tour is a free event for homebuyers inte
 rested in purchasing a fixer-upper home with a renovation mortgage loan. A
 ttendees will tour homes for sale and learn how Invest Atlanta Homebuyer I
 ncentives can help with the down payment and closing costs.
URL:/about-us/events/house-rules-open-house-tour
END:VEVENT
END:VCALENDAR
