BEGIN:VCALENDAR
VERSION:2.0
PRODID:icalendar-ruby
CALSCALE:GREGORIAN
BEGIN:VEVENT
DTSTAMP:20260423T160251Z
UID:3e871cd1-19a0-4ec1-8b11-d5d1c2a8c7a4
DTSTART:20220811T153000
DTEND:20220811T163000
LOCATION:133 Peachtree St NE\, Suite 2900
SUMMARY:Invest Atlanta will hold the Economic Development Committee Meeti
 ng on the second Thursday of each month. Additional details to follow.
URL:/about-us/events/invest-atlanta-economic-development-committee-meeting-
 8-11-22
END:VEVENT
END:VCALENDAR
