BEGIN:VCALENDAR
VERSION:2.0
PRODID:icalendar-ruby
CALSCALE:GREGORIAN
BEGIN:VEVENT
DTSTAMP:20260426T022806Z
UID:f0adc6f5-757d-4c2e-92dd-21a1f0f0b0c1
DTSTART:20220210T153000
DTEND:20220210T163000
LOCATION:133 Peachtree St NE\, Suite 2900
SUMMARY:Invest Atlanta will hold the Economic Development Committee Meeti
 ng on the second Thursday of each month. Additional details to follow.
URL:/about-us/events/invest-atlanta-economic-development-committee-meeting-
 2-10-22
END:VEVENT
END:VCALENDAR
