BEGIN:VCALENDAR
VERSION:2.0
PRODID:icalendar-ruby
CALSCALE:GREGORIAN
BEGIN:VEVENT
DTSTAMP:20260426T023435Z
UID:e9287411-c02b-4c3e-adac-37463cd4dfa6
DTSTART:20220113T130000
DTEND:20220113T140000
LOCATION:133 Peachtree St NE\, Suite 2900
SUMMARY:Invest Atlanta will hold the Housing Committee and the URFA Housin
 g Committee Meeting on the second Thursday of each month. Additional det
 ails to follow.
URL:/about-us/events/invest-atlanta-housing-committee-urfa-housing-committe
 e-1-13-22
END:VEVENT
END:VCALENDAR
