BEGIN:VCALENDAR
VERSION:2.0
PRODID:icalendar-ruby
CALSCALE:GREGORIAN
BEGIN:VEVENT
DTSTAMP:20260425T105529Z
UID:1a192b75-e8b6-4914-8703-3588391c8508
DTSTART:20220216T170000
DTEND:20220216T190000
LOCATION:Invest Atlanta Zoom & Facebook Live
SUMMARY:Start your path to homeownership with experts! Join Invest Atlanta 
 and real estate professionals online to discuss the right steps to take.
URL:/about-us/events/nynn-webinar-series-tips-from-real-estate-agents
END:VEVENT
END:VCALENDAR
