BEGIN:VCALENDAR
VERSION:2.0
PRODID:icalendar-ruby
CALSCALE:GREGORIAN
BEGIN:VEVENT
DTSTAMP:20260425T105529Z
UID:10e5a7b7-4d06-403b-9373-0963cd2a9ac7
DTSTART:20220222T113000
DTEND:20220222T123000
LOCATION:Zoom Webinar 
SUMMARY:Webinar Series for Startup Founders
URL:/about-us/events/set-up-for-startup-success-hiring
END:VEVENT
END:VCALENDAR
