BEGIN:VCALENDAR
VERSION:2.0
PRODID:icalendar-ruby
CALSCALE:GREGORIAN
BEGIN:VEVENT
DTSTAMP:20260423T151001Z
UID:2df812cf-e697-4a60-bf28-92c8e773db17
DTSTART:20220308T113000
DTEND:20220308T123000
LOCATION:Zoom Webinar 
SUMMARY:Webinar Series for Startup Founders
URL:/about-us/events/set-up-for-startup-success-fundraising
END:VEVENT
END:VCALENDAR
