BEGIN:VCALENDAR
VERSION:2.0
PRODID:icalendar-ruby
CALSCALE:GREGORIAN
BEGIN:VEVENT
DTSTAMP:20260425T225548Z
UID:e2464ea5-a422-4c11-952f-2b4af2f3da97
DTSTART:20220419T080000
DTEND:20220419T090000
LOCATION:Zoom Online Meeting
SUMMARY:Join Invest Atlanta staff for a live question and answer session on
  the Resurgence Grant Fund. Bring all your pressing questions about how to
  complete your application before applications close on April 29. 
URL:/about-us/events/resurgence-grant-fund-qamorning
END:VEVENT
END:VCALENDAR
