BEGIN:VCALENDAR
VERSION:2.0
PRODID:icalendar-ruby
CALSCALE:GREGORIAN
BEGIN:VEVENT
DTSTAMP:20260425T105652Z
UID:b1fed8c3-8d4a-48f0-99e8-8018e21731d0
DTSTART:20180913T153000
DTEND:20180913T163000
LOCATION:133 PEACHTREE ST. NE\, SUITE 2900\, ATLANTA\, GA 30303
SUMMARY:Meetings of the Invest Atlanta Economic Development Committee will 
 be held at Invest Atlanta from 3:30-4:30 P.M.
URL:/about-us/events/invest-atlanta-economic-development-committee-meeting-
 9-13-18
END:VEVENT
END:VCALENDAR
