BEGIN:VCALENDAR
VERSION:2.0
PRODID:icalendar-ruby
CALSCALE:GREGORIAN
BEGIN:VEVENT
DTSTAMP:20260426T022903Z
UID:2c16e0f2-79c7-4c11-b8aa-35dc411be212
DTSTART:20220504T113000
DTEND:20220504T120000
LOCATION:Zoom Webinar
SUMMARY:Webinar for Startups and Entrepreneurs
URL:/about-us/events/business-license-registration-101
END:VEVENT
END:VCALENDAR
