BEGIN:VCALENDAR
VERSION:2.0
PRODID:icalendar-ruby
CALSCALE:GREGORIAN
BEGIN:VEVENT
DTSTAMP:20260425T105957Z
UID:4f004634-d9d7-4cc7-8e7f-022a8ba73ab6
DTSTART:20220504T143000
DTEND:20220504T150000
LOCATION:Zoom Webinar
SUMMARY:Webinar for Startups and Entrepreneurs
URL:/about-us/events/business-license-registration-101-afternoon
END:VEVENT
END:VCALENDAR
