BEGIN:VCALENDAR
VERSION:2.0
PRODID:icalendar-ruby
CALSCALE:GREGORIAN
BEGIN:VEVENT
DTSTAMP:20260423T215044Z
UID:14c0f4ab-086c-4fbe-ac59-7dd4425d91d6
DTSTART:20220602T153000
DTEND:20220602T170000
LOCATION:1560 Metropolitan Parkway SW\, Atlanta\, GA 30310
SUMMARY:Join us to learn about the City of Atlanta’s Commercial Property 
 Assessed Clean Energy program (“C-PACE”)\, which provides Atlanta prop
 erty owners with an innovative financing tool to make needed repairs and u
 pgrades to their properties to save energy and water. A wide range of comm
 ercial property types qualify for financing including nonprofit\, hospital
 ity\, retail\, mixed-use and multifamily buildings. Property owners can ch
 oose from hundreds of eligible building improvements ranging from windows 
 and doors\, roofing\, solar panel arrays\, and HVAC.
URL:/about-us/events/invest-atlanta-ygrene-pace-informational-session-and-c
 ontractor-workshop
END:VEVENT
END:VCALENDAR
