BEGIN:VCALENDAR
VERSION:2.0
PRODID:icalendar-ruby
CALSCALE:GREGORIAN
BEGIN:VEVENT
DTSTAMP:20260426T022856Z
UID:3da0d2ab-f02b-41e6-98a0-e4bd01ff2b55
DTSTART:20221129T180000
DTEND:20221129T193000
LOCATION:2800 Cambellton Rd SW\, Atlanta\, GA\, 30310
SUMMARY:Stop by to meet your Invest Atlanta team\, pick up helpful informat
 ion for your small business\, and see our new resource center location.\n\
 n \n\n\n \n
URL:/about-us/events/small-business-resource-center-open-house-mpf
END:VEVENT
END:VCALENDAR
