BEGIN:VCALENDAR
VERSION:2.0
PRODID:icalendar-ruby
CALSCALE:GREGORIAN
BEGIN:VEVENT
DTSTAMP:20260426T022744Z
UID:a90d9e63-f156-4979-a85a-b3a13954058c
DTSTART:20221208T180000
DTEND:20221208T193000
LOCATION:2160 Metropolitan Parkway SW\, Atlanta\, GA\, 30310
SUMMARY:Stop by to meet your Invest Atlanta team\, pick up helpful informat
 ion for your small business\, and see our new resource center location.\n\
 n \n\n\n \n
URL:/about-us/events/small-business-resource-center-open-house-goodwill
END:VEVENT
END:VCALENDAR
