BEGIN:VCALENDAR
VERSION:2.0
PRODID:icalendar-ruby
CALSCALE:GREGORIAN
BEGIN:VEVENT
DTSTAMP:20260426T022903Z
UID:13657dd0-4a76-4587-8609-e2d6cfbc59e6
DTSTART:20221107T183000
DTEND:20221107T193000
LOCATION:
SUMMARY:Learn more about the newly launched NPU-V Small Commercial Property
  Improvement Grant.
URL:/about-us/events/small-commercial-property-improvement-grant-webinar
END:VEVENT
END:VCALENDAR
