BEGIN:VCALENDAR
VERSION:2.0
PRODID:icalendar-ruby
CALSCALE:GREGORIAN
BEGIN:VEVENT
DTSTAMP:20260426T023447Z
UID:f0934cbc-5b1c-44ff-b96c-200242c4f4c1
DTSTART:20180809T130000
DTEND:20180809T140000
LOCATION:133 PEACHTREE ST. NE\, SUITE 2900\, ATLANTA\, GA 30303
SUMMARY:Meetings of the Invest Atlanta Housing Committee and the URFA Housi
 ng Committee will be held at Invest Atlanta from 1:00-2:00 P.M.
URL:/about-us/events/invest-atlanta-housing-committee-urfa-housing-committe
 e-8-9-18
END:VEVENT
END:VCALENDAR
